BEGIN:VCALENDAR
VERSION:2.0
PRODID:-//Plone.org//NONSGML plone.app.event//EN
X-WR-TIMEZONE:Europe/Madrid
BEGIN:VEVENT
SUMMARY:17è aniversari de Ca n'Arimon: Dia de Portes obertes
DTSTART;VALUE=DATE:20171027
DTEND;VALUE=DATE:20171028
DTSTAMP;VALUE=DATE-TIME:20260423T124745Z
UID:3e3bb548e60942e79988715b982ba5f3@www.molletvalles.cat
CATEGORIES:Esports
CREATED;VALUE=DATE-TIME:20171024T130452Z
LAST-MODIFIED;VALUE=DATE-TIME:20221222T021753Z
URL:https://www.molletvalles.cat/ca/actualitat/agenda/19028
END:VEVENT
END:VCALENDAR
