BEGIN:VCALENDAR
VERSION:2.0
PRODID:-//Plone.org//NONSGML plone.app.event//EN
X-WR-TIMEZONE:Europe/Madrid
BEGIN:VEVENT
SUMMARY:Castanyada Diabòlica: Concerts amb les actuacions d' El Ventilado
 r\, Perro i DJ Bits-Tek
DTSTART;VALUE=DATE:20171031
DTEND;VALUE=DATE:20171101
DTSTAMP;VALUE=DATE-TIME:20260423T124400Z
UID:452e4509f22d4302ba8f6fab5b114e8e@www.molletvalles.cat
CATEGORIES:Festes populars
CREATED;VALUE=DATE-TIME:20171025T080047Z
LAST-MODIFIED;VALUE=DATE-TIME:20221222T021814Z
URL:https://www.molletvalles.cat/ca/actualitat/agenda/19033
END:VEVENT
END:VCALENDAR
