BEGIN:VCALENDAR
VERSION:2.0
PRODID:-//Plone.org//NONSGML plone.app.event//EN
X-WR-TIMEZONE:Europe/Madrid
BEGIN:VEVENT
SUMMARY:Dia Internacional Contra la Violència Masclista: Inauguració exp
 osició: "X"
DTSTART;VALUE=DATE:20171117
DTEND;VALUE=DATE:20171118
DTSTAMP;VALUE=DATE-TIME:20260423T124710Z
UID:d7bbbb05febb4b4792a13568015609cc@www.molletvalles.cat
CATEGORIES:Exposicions i fires
CREATED;VALUE=DATE-TIME:20171109T141350Z
LAST-MODIFIED;VALUE=DATE-TIME:20221222T022012Z
URL:https://www.molletvalles.cat/ca/actualitat/agenda/19067
END:VEVENT
END:VCALENDAR
