BEGIN:VCALENDAR
VERSION:2.0
PRODID:-//Plone.org//NONSGML plone.app.event//EN
X-WR-TIMEZONE:Europe/Madrid
BEGIN:VEVENT
SUMMARY:Visita comentada a La Pedrera  de dia
DTSTART;VALUE=DATE:20171125
DTEND;VALUE=DATE:20171126
DTSTAMP;VALUE=DATE-TIME:20260423T124820Z
UID:9ba8a520b5134b60bfd6d8713af7b82c@www.molletvalles.cat
CATEGORIES:Sortides i excursions
CREATED;VALUE=DATE-TIME:20171110T084844Z
LAST-MODIFIED;VALUE=DATE-TIME:20221222T022025Z
LOCATION:La Pedrera
URL:https://www.molletvalles.cat/ca/actualitat/agenda/19070
END:VEVENT
END:VCALENDAR
