BEGIN:VCALENDAR
VERSION:2.0
PRODID:-//Plone.org//NONSGML plone.app.event//EN
X-WR-TIMEZONE:Europe/Madrid
BEGIN:VEVENT
SUMMARY:Nadal 2017: Teatre infantil - "Un Nadal de Pastorets"- a càrrec d
 e la Cia Teatre Obligatori
DTSTART;VALUE=DATE:20171217
DTEND;VALUE=DATE:20171218
DTSTAMP;VALUE=DATE-TIME:20260423T105940Z
UID:d8d31dc05e1c4e839e4624a5c81a6eb2@www.molletvalles.cat
CATEGORIES:Infantils
CREATED;VALUE=DATE-TIME:20171113T133645Z
LAST-MODIFIED;VALUE=DATE-TIME:20221222T022101Z
URL:https://www.molletvalles.cat/ca/actualitat/agenda/19082
END:VEVENT
END:VCALENDAR
