BEGIN:VCALENDAR
VERSION:2.0
PRODID:-//Plone.org//NONSGML plone.app.event//EN
X-WR-TIMEZONE:Europe/Madrid
BEGIN:VEVENT
SUMMARY:Acapte de sang
DTSTART;VALUE=DATE:20171129
DTEND;VALUE=DATE:20171130
DTSTAMP;VALUE=DATE-TIME:20260423T104046Z
UID:9ec1b8a3bf534db9adc533114ed13eac@www.molletvalles.cat
CATEGORIES:Actes diversos
CREATED;VALUE=DATE-TIME:20171122T082142Z
LAST-MODIFIED;VALUE=DATE-TIME:20221222T022153Z
LOCATION:IES Gallecs (Passeig de Cesc Bas\, 3)
URL:https://www.molletvalles.cat/ca/actualitat/agenda/19100
END:VEVENT
END:VCALENDAR
