BEGIN:VCALENDAR
VERSION:2.0
PRODID:-//Plone.org//NONSGML plone.app.event//EN
X-WR-TIMEZONE:Europe/Madrid
BEGIN:VEVENT
SUMMARY:Nadal 2017: La vesprada-Màping.POE
DTSTART;VALUE=DATE:20171201
DTEND;VALUE=DATE:20171202
DTSTAMP;VALUE=DATE-TIME:20260421T105305Z
UID:9653b88b368a40eb866775fb01612102@www.molletvalles.cat
CATEGORIES:Festes populars
CREATED;VALUE=DATE-TIME:20171123T084221Z
LAST-MODIFIED;VALUE=DATE-TIME:20221222T022222Z
LOCATION:Plaça Prat de la Riba
URL:https://www.molletvalles.cat/ca/actualitat/agenda/19111
END:VEVENT
END:VCALENDAR
