BEGIN:VCALENDAR
VERSION:2.0
PRODID:-//Plone.org//NONSGML plone.app.event//EN
X-WR-TIMEZONE:Europe/Madrid
BEGIN:VEVENT
SUMMARY: Lliurament dels premis del concurs Posa't en joc (Racó del Volun
 tariat per la llengua de la Biblioteca Can Mulà)
DTSTART;VALUE=DATE:20171204
DTEND;VALUE=DATE:20171205
DTSTAMP;VALUE=DATE-TIME:20260421T160818Z
UID:dbbf768c5abb4696af378941b172bbc2@www.molletvalles.cat
CATEGORIES:Concursos i premis
CREATED;VALUE=DATE-TIME:20171123T113443Z
LAST-MODIFIED;VALUE=DATE-TIME:20221222T022242Z
URL:https://www.molletvalles.cat/ca/actualitat/agenda/19117
END:VEVENT
END:VCALENDAR
