BEGIN:VCALENDAR
VERSION:2.0
PRODID:-//Plone.org//NONSGML plone.app.event//EN
X-WR-TIMEZONE:Europe/Madrid
BEGIN:VEVENT
SUMMARY:Nadal 2017: IV Jornada Infantil
DTSTART;VALUE=DATE:20171216
DTEND;VALUE=DATE:20171217
DTSTAMP;VALUE=DATE-TIME:20260423T133647Z
UID:381119ecb7d841f2b99db6333a538b8d@www.molletvalles.cat
CATEGORIES:Infantils
CREATED;VALUE=DATE-TIME:20171123T134131Z
LAST-MODIFIED;VALUE=DATE-TIME:20221222T022252Z
URL:https://www.molletvalles.cat/ca/actualitat/agenda/19120
END:VEVENT
END:VCALENDAR
