BEGIN:VCALENDAR
VERSION:2.0
PRODID:-//Plone.org//NONSGML plone.app.event//EN
X-WR-TIMEZONE:Europe/Madrid
BEGIN:VEVENT
SUMMARY:Nadal 2017: Pastorrats de Folch i Torres
DTSTART;VALUE=DATE:20171226
DTEND;VALUE=DATE:20171227
DTSTAMP;VALUE=DATE-TIME:20260419T163957Z
UID:bd4dbe12f4714d308ba05cc087a35af3@www.molletvalles.cat
CATEGORIES:Música\, cinema i espectacles
CREATED;VALUE=DATE-TIME:20171124T124205Z
LAST-MODIFIED;VALUE=DATE-TIME:20221222T022340Z
URL:https://www.molletvalles.cat/ca/actualitat/agenda/19133
END:VEVENT
END:VCALENDAR
