BEGIN:VCALENDAR
VERSION:2.0
PRODID:-//Plone.org//NONSGML plone.app.event//EN
X-WR-TIMEZONE:Europe/Madrid
BEGIN:VEVENT
SUMMARY:Nadal 2017: Patge Reial
DTSTART;VALUE=DATE:20180102
DTEND;VALUE=DATE:20180103
DTSTAMP;VALUE=DATE-TIME:20260423T124310Z
UID:29724121765641adbd4c93ad283e2481@www.molletvalles.cat
CATEGORIES:Infantils
CREATED;VALUE=DATE-TIME:20171128T082714Z
LAST-MODIFIED;VALUE=DATE-TIME:20221222T022451Z
LOCATION:Rambla Balmes
URL:https://www.molletvalles.cat/ca/actualitat/agenda/19151
END:VEVENT
END:VCALENDAR
