BEGIN:VCALENDAR
VERSION:2.0
PRODID:-//Plone.org//NONSGML plone.app.event//EN
X-WR-TIMEZONE:Europe/Madrid
BEGIN:VEVENT
SUMMARY:Inauguració de l'exposició "Camaleó"\, de Varvara&Mar
DTSTART;VALUE=DATE:20171214
DTEND;VALUE=DATE:20171215
DTSTAMP;VALUE=DATE-TIME:20260419T164041Z
UID:a9a3fc55cd8b4b9fa52a4110c980171f@www.molletvalles.cat
CATEGORIES:Exposicions i fires
CREATED;VALUE=DATE-TIME:20171128T132639Z
LAST-MODIFIED;VALUE=DATE-TIME:20221222T022507Z
URL:https://www.molletvalles.cat/ca/actualitat/agenda/19158
END:VEVENT
END:VCALENDAR
