BEGIN:VCALENDAR
VERSION:2.0
PRODID:-//Plone.org//NONSGML plone.app.event//EN
X-WR-TIMEZONE:Europe/Madrid
BEGIN:VEVENT
SUMMARY:Ball a l'Espai Sant Jordi
DTSTART;VALUE=DATE:20180114
DTEND;VALUE=DATE:20180115
DTSTAMP;VALUE=DATE-TIME:20260423T124543Z
UID:1d1dc0f3231f4e2585648f00d59c9136@www.molletvalles.cat
CATEGORIES:Música\, cinema i espectacles
CREATED;VALUE=DATE-TIME:20180109T140534Z
LAST-MODIFIED;VALUE=DATE-TIME:20221222T022910Z
URL:https://www.molletvalles.cat/ca/actualitat/agenda/19229
END:VEVENT
END:VCALENDAR
