BEGIN:VCALENDAR
VERSION:2.0
PRODID:-//Plone.org//NONSGML plone.app.event//EN
X-WR-TIMEZONE:Europe/Madrid
BEGIN:VEVENT
SUMMARY:Inauguració del XI Cicle de Cinema Cubà amb la pel·lícula Coma
 ndante de Oliver Stone
DTSTART;VALUE=DATE:20180113
DTEND;VALUE=DATE:20180114
DTSTAMP;VALUE=DATE-TIME:20260419T163803Z
UID:ccc4f9df5cb94eaea3585ec0d19fba14@www.molletvalles.cat
CATEGORIES:Música\, cinema i espectacles
CREATED;VALUE=DATE-TIME:20180111T105855Z
LAST-MODIFIED;VALUE=DATE-TIME:20221222T022956Z
URL:https://www.molletvalles.cat/ca/actualitat/agenda/19251
END:VEVENT
END:VCALENDAR
