BEGIN:VCALENDAR
VERSION:2.0
PRODID:-//Plone.org//NONSGML plone.app.event//EN
X-WR-TIMEZONE:Europe/Madrid
BEGIN:VEVENT
SUMMARY:Sant Vicenç 2018. 37a Festa de la Ràdio: Lliurament dels premis 
 Micròfon i Notícia de l'Any
DTSTART;VALUE=DATE:20180122
DTEND;VALUE=DATE:20180123
DTSTAMP;VALUE=DATE-TIME:20260423T121714Z
UID:e883d77a93c64a189251e76576af2774@www.molletvalles.cat
CATEGORIES:Concursos i premis
CREATED;VALUE=DATE-TIME:20180111T131226Z
LAST-MODIFIED;VALUE=DATE-TIME:20221222T023100Z
URL:https://www.molletvalles.cat/ca/actualitat/agenda/19270
END:VEVENT
END:VCALENDAR
