BEGIN:VCALENDAR
VERSION:2.0
PRODID:-//Plone.org//NONSGML plone.app.event//EN
X-WR-TIMEZONE:Europe/Madrid
BEGIN:VEVENT
SUMMARY:Exposicions en Femení: Inauguració "Soul Colors"
DTSTART;VALUE=DATE:20180308
DTEND;VALUE=DATE:20180309
DTSTAMP;VALUE=DATE-TIME:20260423T152605Z
UID:2891e8ed8ddb4615ad1ab3da75f50ab9@www.molletvalles.cat
CATEGORIES:Exposicions i fires
CREATED;VALUE=DATE-TIME:20180111T134652Z
LAST-MODIFIED;VALUE=DATE-TIME:20221222T023132Z
URL:https://www.molletvalles.cat/ca/actualitat/agenda/19281
END:VEVENT
END:VCALENDAR
