BEGIN:VCALENDAR
VERSION:2.0
PRODID:-//Plone.org//NONSGML plone.app.event//EN
X-WR-TIMEZONE:Europe/Madrid
BEGIN:VEVENT
SUMMARY:Taller gratuït de Dansa Creativa per a nens i nenes de 6 a 12 any
 s
DTSTART;VALUE=DATE:20180122
DTEND;VALUE=DATE:20180123
DTSTAMP;VALUE=DATE-TIME:20260425T124318Z
UID:abfa468188ea49238e0baa827f3790a0@www.molletvalles.cat
CATEGORIES:Cursos i tallers
CREATED;VALUE=DATE-TIME:20180112T093912Z
LAST-MODIFIED;VALUE=DATE-TIME:20221222T023134Z
LOCATION: Marià Fortuny\, 23
URL:https://www.molletvalles.cat/ca/actualitat/agenda/19283
END:VEVENT
END:VCALENDAR
