BEGIN:VCALENDAR
VERSION:2.0
PRODID:-//Plone.org//NONSGML plone.app.event//EN
X-WR-TIMEZONE:Europe/Madrid
BEGIN:VEVENT
SUMMARY:Xerrada: "De la reparació de bicicletes a la indústria de la mot
 o"
DTSTART;VALUE=DATE:20180219
DTEND;VALUE=DATE:20180220
DTSTAMP;VALUE=DATE-TIME:20260423T124543Z
UID:01eb3b73202646c893981931f791375f@www.molletvalles.cat
CATEGORIES:Conferències
CREATED;VALUE=DATE-TIME:20180116T140405Z
LAST-MODIFIED;VALUE=DATE-TIME:20221222T023203Z
URL:https://www.molletvalles.cat/ca/actualitat/agenda/19302
END:VEVENT
END:VCALENDAR
