BEGIN:VCALENDAR
VERSION:2.0
PRODID:-//Plone.org//NONSGML plone.app.event//EN
X-WR-TIMEZONE:Europe/Madrid
BEGIN:VEVENT
SUMMARY:Ball de la gent gran
DTSTART;VALUE=DATE:20180422
DTEND;VALUE=DATE:20180423
DTSTAMP;VALUE=DATE-TIME:20260423T124712Z
UID:3ac25f59392f43c68c8dcd4b5be5882e@www.molletvalles.cat
CATEGORIES:Música\, cinema i espectacles
CREATED;VALUE=DATE-TIME:20180125T122256Z
LAST-MODIFIED;VALUE=DATE-TIME:20221222T023233Z
URL:https://www.molletvalles.cat/ca/actualitat/agenda/19319
END:VEVENT
END:VCALENDAR
