BEGIN:VCALENDAR
VERSION:2.0
PRODID:-//Plone.org//NONSGML plone.app.event//EN
X-WR-TIMEZONE:Europe/Madrid
BEGIN:VEVENT
SUMMARY:Ball de la gent gran
DTSTART;VALUE=DATE:20180527
DTEND;VALUE=DATE:20180528
DTSTAMP;VALUE=DATE-TIME:20260423T102330Z
UID:0ccc89689a1941eb8ca9701351db75b2@www.molletvalles.cat
CATEGORIES:Música\, cinema i espectacles
CREATED;VALUE=DATE-TIME:20180125T133723Z
LAST-MODIFIED;VALUE=DATE-TIME:20221222T023233Z
URL:https://www.molletvalles.cat/ca/actualitat/agenda/19321
END:VEVENT
END:VCALENDAR
