BEGIN:VCALENDAR
VERSION:2.0
PRODID:-//Plone.org//NONSGML plone.app.event//EN
X-WR-TIMEZONE:Europe/Madrid
BEGIN:VEVENT
SUMMARY:Hissada de la bandera d'Andalusia i cercavila
DTSTART;VALUE=DATE:20180225
DTEND;VALUE=DATE:20180226
DTSTAMP;VALUE=DATE-TIME:20260425T122905Z
UID:2da362a4c37542da91b834a6a9ae21fb@www.molletvalles.cat
CATEGORIES:Actes institucionals
CREATED;VALUE=DATE-TIME:20180207T083047Z
LAST-MODIFIED;VALUE=DATE-TIME:20221222T023452Z
LOCATION:Pl. Prat de la Riba 
URL:https://www.molletvalles.cat/ca/actualitat/agenda/19381
END:VEVENT
END:VCALENDAR
