BEGIN:VCALENDAR
VERSION:2.0
PRODID:-//Plone.org//NONSGML plone.app.event//EN
X-WR-TIMEZONE:Europe/Madrid
BEGIN:VEVENT
SUMMARY:Club de lectura infantil: Endrapallibres... Reload!
DTSTART;VALUE=DATE:20180302
DTEND;VALUE=DATE:20180303
DTSTAMP;VALUE=DATE-TIME:20260425T122905Z
UID:8e81006a82d243f9a3d7e744bbeae184@www.molletvalles.cat
CATEGORIES:Infantils
CREATED;VALUE=DATE-TIME:20180227T082044Z
LAST-MODIFIED;VALUE=DATE-TIME:20221222T023900Z
URL:https://www.molletvalles.cat/ca/actualitat/agenda/19454
END:VEVENT
END:VCALENDAR
