BEGIN:VCALENDAR
VERSION:2.0
PRODID:-//Plone.org//NONSGML plone.app.event//EN
X-WR-TIMEZONE:Europe/Madrid
BEGIN:VEVENT
SUMMARY:Festa verda de Can Borrell
DTSTART;VALUE=DATE:20180408
DTEND;VALUE=DATE:20180409
DTSTAMP;VALUE=DATE-TIME:20260419T163951Z
UID:d848d661bf6046b783fcf0a538d33ffa@www.molletvalles.cat
CATEGORIES:Festes populars
CREATED;VALUE=DATE-TIME:20180323T071113Z
LAST-MODIFIED;VALUE=DATE-TIME:20221222T024211Z
LOCATION:Parc de Can Borrell
URL:https://www.molletvalles.cat/ca/actualitat/agenda/19526
END:VEVENT
END:VCALENDAR
