BEGIN:VCALENDAR
VERSION:2.0
PRODID:-//Plone.org//NONSGML plone.app.event//EN
X-WR-TIMEZONE:Europe/Madrid
BEGIN:VEVENT
SUMMARY:35è aniversari del Ball de Diables
DTSTART;VALUE=DATE:20180401
DTEND;VALUE=DATE:20180402
DTSTAMP;VALUE=DATE-TIME:20260421T102138Z
UID:fb9f4d8535ec41548020dc65b8e10a07@www.molletvalles.cat
CATEGORIES:Festes populars
CREATED;VALUE=DATE-TIME:20180323T114531Z
LAST-MODIFIED;VALUE=DATE-TIME:20221222T024219Z
URL:https://www.molletvalles.cat/ca/actualitat/agenda/19528
END:VEVENT
END:VCALENDAR
