BEGIN:VCALENDAR
VERSION:2.0
PRODID:-//Plone.org//NONSGML plone.app.event//EN
X-WR-TIMEZONE:Europe/Madrid
BEGIN:VEVENT
SUMMARY:12a Mostra Internacional de Titelles: "Munta Titella
DTSTART;VALUE=DATE:20180415
DTEND;VALUE=DATE:20180416
DTSTAMP;VALUE=DATE-TIME:20260419T164045Z
UID:1b964d3a647048d8b204d2a850dbc0fe@www.molletvalles.cat
CATEGORIES:Música\, cinema i espectacles
CREATED;VALUE=DATE-TIME:20180410T083231Z
LAST-MODIFIED;VALUE=DATE-TIME:20221222T024633Z
LOCATION:Plaça d'Europa
URL:https://www.molletvalles.cat/ca/actualitat/agenda/19588
END:VEVENT
END:VCALENDAR
