BEGIN:VCALENDAR
VERSION:2.0
PRODID:-//Plone.org//NONSGML plone.app.event//EN
X-WR-TIMEZONE:Europe/Madrid
BEGIN:VEVENT
SUMMARY:12a Mostra Internacional de Titelles: Espectacle -"Manca en las du
 nas"-
DTSTART;VALUE=DATE:20180415
DTEND;VALUE=DATE:20180416
DTSTAMP;VALUE=DATE-TIME:20260423T124744Z
UID:12b8ec30c7fe446fa42c6075ba9b8deb@www.molletvalles.cat
CATEGORIES:Música\, cinema i espectacles
CREATED;VALUE=DATE-TIME:20180410T120624Z
LAST-MODIFIED;VALUE=DATE-TIME:20221222T024643Z
LOCATION:Parc de les Pruneres
URL:https://www.molletvalles.cat/ca/actualitat/agenda/19590
END:VEVENT
END:VCALENDAR
