BEGIN:VCALENDAR
VERSION:2.0
PRODID:-//Plone.org//NONSGML plone.app.event//EN
X-WR-TIMEZONE:Europe/Madrid
BEGIN:VEVENT
SUMMARY:Parada solidària Adopta un amic
DTSTART;VALUE=DATE:20180428
DTEND;VALUE=DATE:20180429
DTSTAMP;VALUE=DATE-TIME:20260423T124854Z
UID:4584e3521a404c8ab7e244faa2779c10@www.molletvalles.cat
CATEGORIES:Exposicions i fires
CREATED;VALUE=DATE-TIME:20180413T093725Z
LAST-MODIFIED;VALUE=DATE-TIME:20221222T024834Z
LOCATION:Rbla. Balmes 32 (alçada Berenguer III)
URL:https://www.molletvalles.cat/ca/actualitat/agenda/19613
END:VEVENT
END:VCALENDAR
