BEGIN:VCALENDAR
VERSION:2.0
PRODID:-//Plone.org//NONSGML plone.app.event//EN
X-WR-TIMEZONE:Europe/Madrid
BEGIN:VEVENT
SUMMARY:Sant Jordi 2018: Exposició de poesia visual del Punt Jove
DTSTART;VALUE=DATE:20180420
DTEND;VALUE=DATE:20180421
DTSTAMP;VALUE=DATE-TIME:20260423T124629Z
UID:8f97b252001246339ae73c99c4677867@www.molletvalles.cat
CATEGORIES:Exposicions i fires
CREATED;VALUE=DATE-TIME:20180416T110814Z
LAST-MODIFIED;VALUE=DATE-TIME:20221222T024836Z
URL:https://www.molletvalles.cat/ca/actualitat/agenda/19614
END:VEVENT
END:VCALENDAR
