BEGIN:VCALENDAR
VERSION:2.0
PRODID:-//Plone.org//NONSGML plone.app.event//EN
X-WR-TIMEZONE:Europe/Madrid
BEGIN:VEVENT
SUMMARY:Sant Jordi 2018: 10è Concurs de Petons a la Rambla 
DTSTART;VALUE=DATE:20180423
DTEND;VALUE=DATE:20180424
DTSTAMP;VALUE=DATE-TIME:20260423T152604Z
UID:2a1c781434c04241a6c92718510ad949@www.molletvalles.cat
CATEGORIES:Concursos i premis
CREATED;VALUE=DATE-TIME:20180416T113132Z
LAST-MODIFIED;VALUE=DATE-TIME:20221222T024857Z
LOCATION:Rambla Balmes
URL:https://www.molletvalles.cat/ca/actualitat/agenda/19622
END:VEVENT
END:VCALENDAR
