BEGIN:VCALENDAR
VERSION:2.0
PRODID:-//Plone.org//NONSGML plone.app.event//EN
X-WR-TIMEZONE:Europe/Madrid
BEGIN:VEVENT
SUMMARY:Sant Jordi 2018. L'hora del conte: "Petita història de Joan Abell
 ó"
DTSTART;VALUE=DATE:20180423
DTEND;VALUE=DATE:20180424
DTSTAMP;VALUE=DATE-TIME:20260423T124711Z
UID:50f125e99c0848a1a5867fab1de71bc4@www.molletvalles.cat
CATEGORIES:Infantils
CREATED;VALUE=DATE-TIME:20180417T101604Z
LAST-MODIFIED;VALUE=DATE-TIME:20221222T024923Z
LOCATION:Pl. Catalunya
URL:https://www.molletvalles.cat/ca/actualitat/agenda/19630
END:VEVENT
END:VCALENDAR
