BEGIN:VCALENDAR
VERSION:2.0
PRODID:-//Plone.org//NONSGML plone.app.event//EN
X-WR-TIMEZONE:Europe/Madrid
BEGIN:VEVENT
SUMMARY:Dia Internacional de la Dansa: Presentació coreografia "Atlantis 
 2018" i "Quién no es\, no ha"
DTSTART;VALUE=DATE:20180420
DTEND;VALUE=DATE:20180421
DTSTAMP;VALUE=DATE-TIME:20260423T124544Z
UID:3f81e3e832e042bca0fe9eb9b34fe534@www.molletvalles.cat
CATEGORIES:Música\, cinema i espectacles
CREATED;VALUE=DATE-TIME:20180417T102604Z
LAST-MODIFIED;VALUE=DATE-TIME:20221222T024933Z
URL:https://www.molletvalles.cat/ca/actualitat/agenda/19633
END:VEVENT
END:VCALENDAR
