BEGIN:VCALENDAR
VERSION:2.0
PRODID:-//Plone.org//NONSGML plone.app.event//EN
X-WR-TIMEZONE:Europe/Madrid
BEGIN:VEVENT
SUMMARY:Sortida cultural: "Els Jardins de Can Sentmenat. El repòs aristoc
 ràtic"
DTSTART;VALUE=DATE:20180526
DTEND;VALUE=DATE:20180527
DTSTAMP;VALUE=DATE-TIME:20260423T170659Z
UID:4209386472eb44199d7f917e5a844c97@www.molletvalles.cat
CATEGORIES:Sortides i excursions
CREATED;VALUE=DATE-TIME:20180423T101500Z
LAST-MODIFIED;VALUE=DATE-TIME:20221222T025044Z
URL:https://www.molletvalles.cat/ca/actualitat/agenda/19652
END:VEVENT
END:VCALENDAR
