BEGIN:VCALENDAR
VERSION:2.0
PRODID:-//Plone.org//NONSGML plone.app.event//EN
X-WR-TIMEZONE:Europe/Madrid
BEGIN:VEVENT
SUMMARY:Teatre a la Fiveller: "La gata sobre el tejado de zinc caliente" d
 e Tennnessee Williams
DTSTART;VALUE=DATE:20180506
DTEND;VALUE=DATE:20180507
DTSTAMP;VALUE=DATE-TIME:20260423T124609Z
UID:bd022516b9dd4b0988cdf6807a5863f4@www.molletvalles.cat
CATEGORIES:Música\, cinema i espectacles
CREATED;VALUE=DATE-TIME:20180502T082831Z
LAST-MODIFIED;VALUE=DATE-TIME:20221222T025252Z
URL:https://www.molletvalles.cat/ca/actualitat/agenda/19680
END:VEVENT
END:VCALENDAR
