BEGIN:VCALENDAR
VERSION:2.0
PRODID:-//Plone.org//NONSGML plone.app.event//EN
X-WR-TIMEZONE:Europe/Madrid
BEGIN:VEVENT
SUMMARY:Ball de Saló
DTSTART;VALUE=DATE:20180512
DTEND;VALUE=DATE:20180513
DTSTAMP;VALUE=DATE-TIME:20260423T124544Z
UID:d43b3edf94d6421794a5049790b87959@www.molletvalles.cat
CREATED;VALUE=DATE-TIME:20180508T104938Z
LAST-MODIFIED;VALUE=DATE-TIME:20221222T025338Z
URL:https://www.molletvalles.cat/ca/actualitat/agenda/19698
END:VEVENT
END:VCALENDAR
