BEGIN:VCALENDAR
VERSION:2.0
PRODID:-//Plone.org//NONSGML plone.app.event//EN
X-WR-TIMEZONE:Europe/Madrid
BEGIN:VEVENT
SUMMARY:Festa del barri de Plana Lledó: Passi de la pel·lícula "La Mate
 rnitat d'Elna"
DTSTART;VALUE=DATE:20180601
DTEND;VALUE=DATE:20180602
DTSTAMP;VALUE=DATE-TIME:20260419T163915Z
UID:994ba875a9ab477fbd4a53571f00526e@www.molletvalles.cat
CATEGORIES:Música\, cinema i espectacles
CREATED;VALUE=DATE-TIME:20180514T062304Z
LAST-MODIFIED;VALUE=DATE-TIME:20221222T025424Z
LOCATION:Local AV Plana Lledó
URL:https://www.molletvalles.cat/ca/actualitat/agenda/19713
END:VEVENT
END:VCALENDAR
