BEGIN:VCALENDAR
VERSION:2.0
PRODID:-//Plone.org//NONSGML plone.app.event//EN
X-WR-TIMEZONE:Europe/Madrid
BEGIN:VEVENT
SUMMARY:Mollet és Fira: Mollet és Motor
DTSTART;VALUE=DATE:20180526
DTEND;VALUE=DATE:20180527
DTSTAMP;VALUE=DATE-TIME:20260421T172947Z
UID:c955b098e25548eeb9b919cd0d6ab89e@www.molletvalles.cat
CATEGORIES:Exposicions i fires
CREATED;VALUE=DATE-TIME:20180514T122045Z
LAST-MODIFIED;VALUE=DATE-TIME:20221222T025445Z
LOCATION:Espai Firal: Av. Llibertat i La Illa
URL:https://www.molletvalles.cat/ca/actualitat/agenda/19719
END:VEVENT
END:VCALENDAR
