BEGIN:VCALENDAR
VERSION:2.0
PRODID:-//Plone.org//NONSGML plone.app.event//EN
X-WR-TIMEZONE:Europe/Madrid
BEGIN:VEVENT
SUMMARY:Passadissos 2018: Projecte d’intervenció artística per a joves
  "Enrajola"
DTSTART;VALUE=DATE:20180602
DTEND;VALUE=DATE:20180603
DTSTAMP;VALUE=DATE-TIME:20260421T174438Z
UID:c19cbea2447040ff8141e4f1fe11aaf5@www.molletvalles.cat
CATEGORIES:Exposicions i fires
CREATED;VALUE=DATE-TIME:20180528T095517Z
LAST-MODIFIED;VALUE=DATE-TIME:20221222T025530Z
URL:https://www.molletvalles.cat/ca/actualitat/agenda/19731
END:VEVENT
END:VCALENDAR
