BEGIN:VCALENDAR
VERSION:2.0
PRODID:-//Plone.org//NONSGML plone.app.event//EN
X-WR-TIMEZONE:Europe/Madrid
BEGIN:VEVENT
SUMMARY:Festa del Barri d’Estació del Nord
DTSTART;VALUE=DATE:20180623
DTEND;VALUE=DATE:20180624
DTSTAMP;VALUE=DATE-TIME:20260421T160818Z
UID:d8fce868997b4d5d9daad8cea08598eb@www.molletvalles.cat
CATEGORIES:Festes populars
CREATED;VALUE=DATE-TIME:20180531T103316Z
LAST-MODIFIED;VALUE=DATE-TIME:20221222T025741Z
LOCATION:Pati Escola Sant Jordi
URL:https://www.molletvalles.cat/ca/actualitat/agenda/19766
END:VEVENT
END:VCALENDAR
