BEGIN:VCALENDAR
VERSION:2.0
PRODID:-//Plone.org//NONSGML plone.app.event//EN
X-WR-TIMEZONE:Europe/Madrid
BEGIN:VEVENT
SUMMARY:Sant Joan 2018: Entrada de la torxa a càrrec de les entitats part
 icipants
DTSTART;VALUE=DATE:20180623
DTEND;VALUE=DATE:20180624
DTSTAMP;VALUE=DATE-TIME:20260423T124545Z
UID:9c95921e5f2244b9b3a6f1a1c682b72a@www.molletvalles.cat
CATEGORIES:Festes populars
CREATED;VALUE=DATE-TIME:20180604T065418Z
LAST-MODIFIED;VALUE=DATE-TIME:20221222T025813Z
LOCATION:Parc de Ca l'Estrada
URL:https://www.molletvalles.cat/ca/actualitat/agenda/19773
END:VEVENT
END:VCALENDAR
