BEGIN:VCALENDAR
VERSION:2.0
PRODID:-//Plone.org//NONSGML plone.app.event//EN
X-WR-TIMEZONE:Europe/Madrid
BEGIN:VEVENT
SUMMARY:Sant Joan 2018: Encesa de la foguera de Sant Joan\, a càrrec dels
  Balls de Diables i les entitas
DTSTART;VALUE=DATE:20180623
DTEND;VALUE=DATE:20180624
DTSTAMP;VALUE=DATE-TIME:20260423T124652Z
UID:436cfa828e6d438e893e7bc60a7d33db@www.molletvalles.cat
CATEGORIES:Festes populars
CREATED;VALUE=DATE-TIME:20180604T070320Z
LAST-MODIFIED;VALUE=DATE-TIME:20221222T025818Z
LOCATION:Parc de Ca l'Estrada
URL:https://www.molletvalles.cat/ca/actualitat/agenda/19774
END:VEVENT
END:VCALENDAR
