BEGIN:VCALENDAR
VERSION:2.0
PRODID:-//Plone.org//NONSGML plone.app.event//EN
X-WR-TIMEZONE:Europe/Madrid
BEGIN:VEVENT
SUMMARY:Concert de fi de curs de l’Associació Musical Pau Casals
DTSTART;VALUE=DATE:20180630
DTEND;VALUE=DATE:20180701
DTSTAMP;VALUE=DATE-TIME:20260423T124629Z
UID:12030b25c10d4cf48a26ff69c962023f@www.molletvalles.cat
CATEGORIES:Música\, cinema i espectacles
CREATED;VALUE=DATE-TIME:20180611T123151Z
LAST-MODIFIED;VALUE=DATE-TIME:20221222T025924Z
LOCATION:Pl. Major
URL:https://www.molletvalles.cat/ca/actualitat/agenda/19792
END:VEVENT
END:VCALENDAR
