BEGIN:VCALENDAR
VERSION:2.0
PRODID:-//Plone.org//NONSGML plone.app.event//EN
X-WR-TIMEZONE:Europe/Madrid
BEGIN:VEVENT
SUMMARY:Festa Major 2018: Capta de sang
DTSTART;VALUE=DATE:20180818
DTEND;VALUE=DATE:20180819
DTSTAMP;VALUE=DATE-TIME:20260423T124651Z
UID:4ac868036fe44ccb9fb2f55cf4b6722c@www.molletvalles.cat
CATEGORIES:Festes populars
CREATED;VALUE=DATE-TIME:20180716T075550Z
LAST-MODIFIED;VALUE=DATE-TIME:20221222T030456Z
URL:https://www.molletvalles.cat/ca/actualitat/agenda/19892
END:VEVENT
END:VCALENDAR
