BEGIN:VCALENDAR
VERSION:2.0
PRODID:-//Plone.org//NONSGML plone.app.event//EN
X-WR-TIMEZONE:Europe/Madrid
BEGIN:VEVENT
SUMMARY:Festa Major 2018: Concert a la terrassa del Museu a càrrec de Riv
 olta
DTSTART;VALUE=DATE:20180818
DTEND;VALUE=DATE:20180819
DTSTAMP;VALUE=DATE-TIME:20260423T124652Z
UID:654521bdd260496e8392534d2f3cf5a0@www.molletvalles.cat
CATEGORIES:Festes populars
CREATED;VALUE=DATE-TIME:20180717T075725Z
LAST-MODIFIED;VALUE=DATE-TIME:20221222T030522Z
URL:https://www.molletvalles.cat/ca/actualitat/agenda/19903
END:VEVENT
END:VCALENDAR
