BEGIN:VCALENDAR
VERSION:2.0
PRODID:-//Plone.org//NONSGML plone.app.event//EN
X-WR-TIMEZONE:Europe/Madrid
BEGIN:VEVENT
SUMMARY:Festa Major 2018: Concert familiar amb Xiula
DTSTART;VALUE=DATE:20180819
DTEND;VALUE=DATE:20180820
DTSTAMP;VALUE=DATE-TIME:20260419T163819Z
UID:a6eba1355f7e42099863f58fe94cb15b@www.molletvalles.cat
CATEGORIES:Festes populars
CREATED;VALUE=DATE-TIME:20180718T114257Z
LAST-MODIFIED;VALUE=DATE-TIME:20221222T030641Z
LOCATION:Parc de Can Mulà
URL:https://www.molletvalles.cat/ca/actualitat/agenda/19930
END:VEVENT
END:VCALENDAR
