BEGIN:VCALENDAR
VERSION:2.0
PRODID:-//Plone.org//NONSGML plone.app.event//EN
X-WR-TIMEZONE:Europe/Madrid
BEGIN:VEVENT
SUMMARY:Festa Major 2018: Sumem metres nadant\, activitat solidària per l
 'esport adaptat
DTSTART;VALUE=DATE:20180820
DTEND;VALUE=DATE:20180821
DTSTAMP;VALUE=DATE-TIME:20260421T172916Z
UID:61ef3cf07fb5423f9fe653765ca6abfe@www.molletvalles.cat
CATEGORIES:Esports
CREATED;VALUE=DATE-TIME:20180719T063137Z
LAST-MODIFIED;VALUE=DATE-TIME:20221222T030704Z
URL:https://www.molletvalles.cat/ca/actualitat/agenda/19939
END:VEVENT
END:VCALENDAR
