BEGIN:VCALENDAR
VERSION:2.0
PRODID:-//Plone.org//NONSGML plone.app.event//EN
X-WR-TIMEZONE:Europe/Madrid
BEGIN:VEVENT
SUMMARY:Festa Major 2018: Taller obert d'imants de rajoles
DTSTART;VALUE=DATE:20180820
DTEND;VALUE=DATE:20180821
DTSTAMP;VALUE=DATE-TIME:20260423T124629Z
UID:a8cc1984e42b46af8fd310426dbc7c2c@www.molletvalles.cat
CATEGORIES:Cursos i tallers
CREATED;VALUE=DATE-TIME:20180719T063755Z
LAST-MODIFIED;VALUE=DATE-TIME:20221222T030709Z
URL:https://www.molletvalles.cat/ca/actualitat/agenda/19941
END:VEVENT
END:VCALENDAR
