BEGIN:VCALENDAR
VERSION:2.0
PRODID:-//Plone.org//NONSGML plone.app.event//EN
X-WR-TIMEZONE:Europe/Madrid
BEGIN:VEVENT
SUMMARY:XXXV Fira d'Artesans 
DTSTART;VALUE=DATE:20180916
DTEND;VALUE=DATE:20180917
DTSTAMP;VALUE=DATE-TIME:20260421T172916Z
UID:6143318c313a4f51bbcec51e315ae1cc@www.molletvalles.cat
CREATED;VALUE=DATE-TIME:20180910T123254Z
LAST-MODIFIED;VALUE=DATE-TIME:20221222T030934Z
URL:https://www.molletvalles.cat/ca/actualitat/agenda/19991
END:VEVENT
END:VCALENDAR
