BEGIN:VCALENDAR
VERSION:2.0
PRODID:-//Plone.org//NONSGML plone.app.event//EN
X-WR-TIMEZONE:Europe/Madrid
BEGIN:VEVENT
SUMMARY:Pregold battle: Lliga eliminatòria
DTSTART;VALUE=DATE:20180922
DTEND;VALUE=DATE:20180923
DTSTAMP;VALUE=DATE-TIME:20260423T124821Z
UID:b89e0337fce24cfcb69daf286ae3264f@www.molletvalles.cat
CATEGORIES:Música\, cinema i espectacles
CREATED;VALUE=DATE-TIME:20180912T091928Z
LAST-MODIFIED;VALUE=DATE-TIME:20221222T030955Z
URL:https://www.molletvalles.cat/ca/actualitat/agenda/19995
END:VEVENT
END:VCALENDAR
