BEGIN:VCALENDAR
VERSION:2.0
PRODID:-//Plone.org//NONSGML plone.app.event//EN
X-WR-TIMEZONE:Europe/Madrid
BEGIN:VEVENT
SUMMARY:Actes Celebració 75è aniversari del Club Bàsquet Mollet
DTSTART;VALUE=DATE:20181011
DTEND;VALUE=DATE:20181012
DTSTAMP;VALUE=DATE-TIME:20260421T102136Z
UID:06b3f384f77f4702895811246b746179@www.molletvalles.cat
CATEGORIES:Actes diversos
CREATED;VALUE=DATE-TIME:20180913T072634Z
LAST-MODIFIED;VALUE=DATE-TIME:20221222T031015Z
URL:https://www.molletvalles.cat/ca/actualitat/agenda/20002
END:VEVENT
END:VCALENDAR
