BEGIN:VCALENDAR
VERSION:2.0
PRODID:-//Plone.org//NONSGML plone.app.event//EN
X-WR-TIMEZONE:Europe/Madrid
BEGIN:VEVENT
SUMMARY:Visita comentada a l'exposició "Catifes de ciment. El món de la 
 rajola hidràulica"
DTSTART;VALUE=DATE:20180916
DTEND;VALUE=DATE:20180917
DTSTAMP;VALUE=DATE-TIME:20260421T102214Z
UID:4976a0c718c74f4597471f6ee6f1bf45@www.molletvalles.cat
CATEGORIES:Exposicions i fires
CREATED;VALUE=DATE-TIME:20180913T102946Z
LAST-MODIFIED;VALUE=DATE-TIME:20221222T031021Z
LOCATION:Museu Abelló
URL:https://www.molletvalles.cat/ca/actualitat/agenda/20004
END:VEVENT
END:VCALENDAR
